BEGIN:VCALENDAR
VERSION:2.0
PRODID:-//B&uuml;rgerhaus Vorwerk-Falkenfeld - ECPv6.8.3//NONSGML v1.0//EN
CALSCALE:GREGORIAN
METHOD:PUBLISH
X-ORIGINAL-URL:https://buergerhaus-hl.de
X-WR-CALDESC:Veranstaltungen für B&uuml;rgerhaus Vorwerk-Falkenfeld
REFRESH-INTERVAL;VALUE=DURATION:PT1H
X-Robots-Tag:noindex
X-PUBLISHED-TTL:PT1H
BEGIN:VTIMEZONE
TZID:UTC
BEGIN:STANDARD
TZOFFSETFROM:+0000
TZOFFSETTO:+0000
TZNAME:UTC
DTSTART:20250101T000000
END:STANDARD
END:VTIMEZONE
BEGIN:VEVENT
DTSTART;TZID=UTC:20250128T080000
DTEND;TZID=UTC:20250128T170000
DTSTAMP:20260421T223226
CREATED:20250128T085531Z
LAST-MODIFIED:20250128T085531Z
UID:739-1738051200-1738083600@buergerhaus-hl.de
SUMMARY:Begegnungscafé im Bürgerhaus
DESCRIPTION:
URL:https://buergerhaus-hl.de/event/begegnungscafe-im-buergerhaus/
END:VEVENT
END:VCALENDAR